BEGIN:VCALENDAR
VERSION:2.0
PRODID:-//eventon.com NONSGML v1.0//EN
BEGIN:VEVENT
UID:69e63608a4e73
DTSTAMP:20260420T161952
DTSTART:20260430T081500Z
DTEND:20260430T130000Z
LOCATION:Bozar Rue Ravenstein 23\,  1000 Bruxelles
SUMMARY:Exposition Bellezza e Bruttezza - Bozar le 30 avril 2026 à 10h30
DESCRIPTION: &nbsp; Les journées Découverte Exposition Bellezza e Bruttezza - Bozar  Jeudi 30 avril 2026 à 10h30 &nbsp; &nbsp; &nbsp; Soyons pratiques : Rendez-vous le jeudi 30 avril 2026 à 10h15 dans le hall de Bozar pour la visite guidée suivie d’un repas convivial Adresse du jour : Bozar rue Ravenstein[..]
END:VEVENT
END:VCALENDAR