BEGIN:VCALENDAR
VERSION:2.0
PRODID:-//eventon.com NONSGML v1.0//EN
BEGIN:VEVENT
UID:69e64a87eed20
DTSTAMP:20260420T174719
DTSTART:20260430T103000Z
DTEND:20260430T143000Z
LOCATION:Bozar Rue Ravenstein 23\,  1000 Bruxelles
SUMMARY:Exposition Bellezza e Bruttezza - Bozar le 30 avril 2026 à 12h30
DESCRIPTION: &nbsp; Les journées Découverte Exposition Bellezza e Bruttezza - Bozar  Jeudi 30 avril 2026 à 12h30 &nbsp; &nbsp; &nbsp; Soyons pratiques : Rendez-vous le jeudi 30 avril 2026 à 12h30 à Victor Bozar Café pour un repas convivial qui sera suivi à 14h30 de la visite guidée de l'exposition Adresse[..]
END:VEVENT
END:VCALENDAR