BEGIN:VCALENDAR
VERSION:2.0
PRODID:-//eventon.com NONSGML v1.0//EN
BEGIN:VEVENT
UID:69e63626d715f
DTSTAMP:20260420T162022
DTSTART:20260519T063000Z
DTEND:20260520T170000Z
LOCATION:Gare Bruxelles Midi Avenue Fonsny 47B
SUMMARY:Les Châteaux du Hainaut les 19 et 20 mai 2026 - chambre single
DESCRIPTION: &nbsp; Les journées Découverte Les Châteaux du Hainaut  les mardi et mercredi 19 et 20 mai 2026 &nbsp; Soyons pratiques : Rendez-vous à Bruxelles Midi à 8h30 le mardi 19 mai 2026 pour le départ en bus 9h15 Arrêt parking Carpool Fastned N203 de Halle St Rochus Visite des châteaux[..]
END:VEVENT
END:VCALENDAR