BEGIN:VCALENDAR
VERSION:2.0
PRODID:-//eventon.com NONSGML v1.0//EN
BEGIN:VEVENT
UID:69e61c2e15d81
DTSTAMP:20260420T142934
DTSTART:20260512T070000Z
DTEND:20260512T160000Z
LOCATION:Gare Bruxelles Central Gare de Bruxelles-Central
SUMMARY:L'Arboretum et le Parc de Wespelaar le 12 mai 2026
DESCRIPTION: &nbsp; Les journées Découverte L'Arboretum et le Parc de Wespelaar Mardi 12 mai 2026 &nbsp; &nbsp; Soyons pratiques : Rendez-vous à Bruxelles Central (en bas du grand escalier) le mardi 12 mai 2026 à 9h00 pour le train IC 3608 de 9h16 vers Genk. Changement de train à Louvain ![..]
END:VEVENT
END:VCALENDAR