BEGIN:VCALENDAR
VERSION:2.0
PRODID:-//eventon.com NONSGML v1.0//EN
BEGIN:VEVENT
UID:69e63657d6360
DTSTAMP:20260420T162111
DTSTART:20260522T143000Z
DTEND:20260522T183000Z
LOCATION:Maison Frère-Orban Rue Ducale 23
SUMMARY:Maison Frère-Orban le 22 mai 2026 à 16h30
DESCRIPTION: &nbsp; Les journées Découverte La Maison Frère-Orban le vendredi 22 mai 2026 à 16h30 &nbsp; &nbsp; Soyons pratiques : Rendez-vous le vendredi 22 mai 2026 à 16h30 pour la visite guidée suivie à 18h30 d’un apéritif et d’un repas convivial (plat & dessert) dans la salle à manger de la[..]
END:VEVENT
END:VCALENDAR